BEGIN:VCALENDAR
VERSION:2.0
PRODID:-//NOLA GOLD Rugby - ECPv6.15.20//NONSGML v1.0//EN
CALSCALE:GREGORIAN
METHOD:PUBLISH
X-WR-CALNAME:NOLA GOLD Rugby
X-ORIGINAL-URL:https://nolagoldrugby.com
X-WR-CALDESC:Events for NOLA GOLD Rugby
REFRESH-INTERVAL;VALUE=DURATION:PT1H
X-Robots-Tag:noindex
X-PUBLISHED-TTL:PT1H
BEGIN:VTIMEZONE
TZID:America/Mexico_City
BEGIN:STANDARD
TZOFFSETFROM:-0600
TZOFFSETTO:-0600
TZNAME:CST
DTSTART:20230101T000000
END:STANDARD
END:VTIMEZONE
BEGIN:VEVENT
DTSTART;TZID=America/Mexico_City:20241119T180000
DTEND;TZID=America/Mexico_City:20241119T200000
DTSTAMP:20260426T021244
CREATED:20241015T131836Z
LAST-MODIFIED:20241114T035140Z
UID:15033-1732039200-1732046400@nolagoldrugby.com
SUMMARY:Vision 31 Rugby Event (FULL)
DESCRIPTION:We’re thrilled to invite you to Vision 31\, a special complimentary event hosted by Southern Eagle\, where we’ll share our exciting plans for the next chapter of NOLA Gold Rugby\, leading up to the United States hosting the 2031 Rugby World Cup! Join us on Tuesday\, November 19th\, at 6 PM for an exclusive look at what’s ahead for the team and the sport. \nWhat’s in Store?\nThis is your chance to learn about the goals and strategies that will take NOLA Gold Rugby to new heights over the next seven years. We’ll outline how we plan to grow the team\, build stronger community connections\, and leave a lasting impact on rugby in the U.S. And\, of course\, there will be plenty of cold beer to enjoy while we discuss what’s on the horizon! \nWe can’t wait to share our plans with you and celebrate the exciting road ahead for NOLA Gold Rugby. Bring your passion for the game\, your questions\, and your excitement as we embark on this journey together!
URL:https://nolagoldrugby.com/event/event-test-1/
LOCATION:Southern Eagle\, 5300 Blair Dr\, Metairie\, LA\, 70003\, United States
ATTACH;FMTTYPE=image/jpeg:https://nolagoldrugby.com/wp-content/uploads/2024/11/fall.jpeg
ORGANIZER;CN="Nola Gold Rugby":MAILTO:information@nolagoldrugby.com
END:VEVENT
END:VCALENDAR