BEGIN:VCALENDAR
VERSION:2.0
PRODID:-//NOLA GOLD Rugby - ECPv6.15.20//NONSGML v1.0//EN
CALSCALE:GREGORIAN
METHOD:PUBLISH
X-WR-CALNAME:NOLA GOLD Rugby
X-ORIGINAL-URL:https://nolagoldrugby.com
X-WR-CALDESC:Events for NOLA GOLD Rugby
REFRESH-INTERVAL;VALUE=DURATION:PT1H
X-Robots-Tag:noindex
X-PUBLISHED-TTL:PT1H
BEGIN:VTIMEZONE
TZID:America/Chicago
BEGIN:DAYLIGHT
TZOFFSETFROM:-0600
TZOFFSETTO:-0500
TZNAME:CDT
DTSTART:20240310T080000
END:DAYLIGHT
BEGIN:STANDARD
TZOFFSETFROM:-0500
TZOFFSETTO:-0600
TZNAME:CST
DTSTART:20241103T070000
END:STANDARD
BEGIN:DAYLIGHT
TZOFFSETFROM:-0600
TZOFFSETTO:-0500
TZNAME:CDT
DTSTART:20250309T080000
END:DAYLIGHT
BEGIN:STANDARD
TZOFFSETFROM:-0500
TZOFFSETTO:-0600
TZNAME:CST
DTSTART:20251102T070000
END:STANDARD
BEGIN:DAYLIGHT
TZOFFSETFROM:-0600
TZOFFSETTO:-0500
TZNAME:CDT
DTSTART:20260308T080000
END:DAYLIGHT
BEGIN:STANDARD
TZOFFSETFROM:-0500
TZOFFSETTO:-0600
TZNAME:CST
DTSTART:20261101T070000
END:STANDARD
END:VTIMEZONE
BEGIN:VEVENT
DTSTART;TZID=America/Chicago:20250223T150000
DTEND;TZID=America/Chicago:20250223T170000
DTSTAMP:20260426T002827
CREATED:20250114T173938Z
LAST-MODIFIED:20250219T005750Z
UID:18226-1740322800-1740330000@nolagoldrugby.com
SUMMARY:Miami Sharks vs NOLA Gold
DESCRIPTION:
URL:https://nolagoldrugby.com/event/miami-sharks-vs-nola-gold/
LOCATION:Florida Blue Training Center\, 1350 NW 55th St.\, Fort Lauderdale\, FL\, 33309\, United States
ATTACH;FMTTYPE=image/jpeg:https://nolagoldrugby.com/wp-content/uploads/2025/02/CALENDAR-Rosters-EVENT-NGRjpg-02.jpg
END:VEVENT
END:VCALENDAR