BEGIN:VCALENDAR
VERSION:2.0
PRODID:-//NOLA GOLD Rugby - ECPv6.15.20//NONSGML v1.0//EN
CALSCALE:GREGORIAN
METHOD:PUBLISH
X-WR-CALNAME:NOLA GOLD Rugby
X-ORIGINAL-URL:https://nolagoldrugby.com
X-WR-CALDESC:Events for NOLA GOLD Rugby
REFRESH-INTERVAL;VALUE=DURATION:PT1H
X-Robots-Tag:noindex
X-PUBLISHED-TTL:PT1H
BEGIN:VTIMEZONE
TZID:America/Chicago
BEGIN:DAYLIGHT
TZOFFSETFROM:-0600
TZOFFSETTO:-0500
TZNAME:CDT
DTSTART:20240310T080000
END:DAYLIGHT
BEGIN:STANDARD
TZOFFSETFROM:-0500
TZOFFSETTO:-0600
TZNAME:CST
DTSTART:20241103T070000
END:STANDARD
BEGIN:DAYLIGHT
TZOFFSETFROM:-0600
TZOFFSETTO:-0500
TZNAME:CDT
DTSTART:20250309T080000
END:DAYLIGHT
BEGIN:STANDARD
TZOFFSETFROM:-0500
TZOFFSETTO:-0600
TZNAME:CST
DTSTART:20251102T070000
END:STANDARD
BEGIN:DAYLIGHT
TZOFFSETFROM:-0600
TZOFFSETTO:-0500
TZNAME:CDT
DTSTART:20260308T080000
END:DAYLIGHT
BEGIN:STANDARD
TZOFFSETFROM:-0500
TZOFFSETTO:-0600
TZNAME:CST
DTSTART:20261101T070000
END:STANDARD
END:VTIMEZONE
BEGIN:VEVENT
DTSTART;TZID=America/Chicago:20250531T180000
DTEND;TZID=America/Chicago:20250531T200000
DTSTAMP:20260425T205039
CREATED:20250114T174930Z
LAST-MODIFIED:20250225T152203Z
UID:18242-1748714400-1748721600@nolagoldrugby.com
SUMMARY:Chicago Hounds vs NOLA Gold
DESCRIPTION:
URL:https://nolagoldrugby.com/event/nola-gold-at-chicago-hounds/
LOCATION:SeatGeek Stadium\, 7000 S Harlem Ave\, Bridgeview\, IL\, 60455\, United States
ATTACH;FMTTYPE=image/jpeg:https://nolagoldrugby.com/wp-content/uploads/2025/01/WEB-Rosters-May31.jpg
END:VEVENT
END:VCALENDAR