BEGIN:VCALENDAR
VERSION:2.0
PRODID:-//NOLA GOLD Rugby - ECPv6.15.20//NONSGML v1.0//EN
CALSCALE:GREGORIAN
METHOD:PUBLISH
X-WR-CALNAME:NOLA GOLD Rugby
X-ORIGINAL-URL:https://nolagoldrugby.com
X-WR-CALDESC:Events for NOLA GOLD Rugby
REFRESH-INTERVAL;VALUE=DURATION:PT1H
X-Robots-Tag:noindex
X-PUBLISHED-TTL:PT1H
BEGIN:VTIMEZONE
TZID:America/Chicago
BEGIN:DAYLIGHT
TZOFFSETFROM:-0600
TZOFFSETTO:-0500
TZNAME:CDT
DTSTART:20240310T080000
END:DAYLIGHT
BEGIN:STANDARD
TZOFFSETFROM:-0500
TZOFFSETTO:-0600
TZNAME:CST
DTSTART:20241103T070000
END:STANDARD
BEGIN:DAYLIGHT
TZOFFSETFROM:-0600
TZOFFSETTO:-0500
TZNAME:CDT
DTSTART:20250309T080000
END:DAYLIGHT
BEGIN:STANDARD
TZOFFSETFROM:-0500
TZOFFSETTO:-0600
TZNAME:CST
DTSTART:20251102T070000
END:STANDARD
BEGIN:DAYLIGHT
TZOFFSETFROM:-0600
TZOFFSETTO:-0500
TZNAME:CDT
DTSTART:20260308T080000
END:DAYLIGHT
BEGIN:STANDARD
TZOFFSETFROM:-0500
TZOFFSETTO:-0600
TZNAME:CST
DTSTART:20261101T070000
END:STANDARD
END:VTIMEZONE
BEGIN:VEVENT
DTSTART;TZID=America/Chicago:20250329T180000
DTEND;TZID=America/Chicago:20250329T200000
DTSTAMP:20260425T185625
CREATED:20250114T171456Z
LAST-MODIFIED:20250219T005931Z
UID:18206-1743271200-1743278400@nolagoldrugby.com
SUMMARY:NOLA Gold vs Chicago Hounds
DESCRIPTION:
URL:https://nolagoldrugby.com/event/nola-gold-vs-chicago-hounds/
LOCATION:Shrine on Airline\, 6000 Airline Dr\, Metairie\, LA\, 70003\, United States
ATTACH;FMTTYPE=image/jpeg:https://nolagoldrugby.com/wp-content/uploads/2025/01/WEB-Event-Schedules-06.jpg
ORGANIZER;CN="Nola Gold Rugby":MAILTO:information@nolagoldrugby.com
END:VEVENT
END:VCALENDAR