BEGIN:VCALENDAR
VERSION:2.0
PRODID:-//NOLA GOLD Rugby - ECPv6.15.20//NONSGML v1.0//EN
CALSCALE:GREGORIAN
METHOD:PUBLISH
X-WR-CALNAME:NOLA GOLD Rugby
X-ORIGINAL-URL:https://nolagoldrugby.com
X-WR-CALDESC:Events for NOLA GOLD Rugby
REFRESH-INTERVAL;VALUE=DURATION:PT1H
X-Robots-Tag:noindex
X-PUBLISHED-TTL:PT1H
BEGIN:VTIMEZONE
TZID:America/Chicago
BEGIN:DAYLIGHT
TZOFFSETFROM:-0600
TZOFFSETTO:-0500
TZNAME:CDT
DTSTART:20240310T080000
END:DAYLIGHT
BEGIN:STANDARD
TZOFFSETFROM:-0500
TZOFFSETTO:-0600
TZNAME:CST
DTSTART:20241103T070000
END:STANDARD
BEGIN:DAYLIGHT
TZOFFSETFROM:-0600
TZOFFSETTO:-0500
TZNAME:CDT
DTSTART:20250309T080000
END:DAYLIGHT
BEGIN:STANDARD
TZOFFSETFROM:-0500
TZOFFSETTO:-0600
TZNAME:CST
DTSTART:20251102T070000
END:STANDARD
BEGIN:DAYLIGHT
TZOFFSETFROM:-0600
TZOFFSETTO:-0500
TZNAME:CDT
DTSTART:20260308T080000
END:DAYLIGHT
BEGIN:STANDARD
TZOFFSETFROM:-0500
TZOFFSETTO:-0600
TZNAME:CST
DTSTART:20261101T070000
END:STANDARD
END:VTIMEZONE
BEGIN:VEVENT
DTSTART;TZID=America/Chicago:20250301T150000
DTEND;TZID=America/Chicago:20250301T170000
DTSTAMP:20260425T224827
CREATED:20250225T151520Z
LAST-MODIFIED:20250225T152532Z
UID:19257-1740841200-1740848400@nolagoldrugby.com
SUMMARY:Utah Warriors vs. NOLA GOLD  – Watch Party at Loft 18!
DESCRIPTION:📍 Loft 18 Metairie –  3128 Metairie Rd\, Metairie\, LA 70001 📍 Loft 18 Mandeville – 1619 N Causeway Blvd\, Frontage Road\, Mandeville\, LA 70471
URL:https://nolagoldrugby.com/event/utah-warriors-vs-nola-gold-watch-party-at-loft-18/
ATTACH;FMTTYPE=image/png:https://nolagoldrugby.com/wp-content/uploads/2025/02/WATCH-PARTY-WEB-EVENT-1.png
END:VEVENT
END:VCALENDAR